BEGIN:VCALENDAR
VERSION:2.0
PRODID:-//wp-events-plugin.com//7.2.3.1//EN
TZID:America/Chicago
X-WR-TIMEZONE:America/Chicago
BEGIN:VEVENT
UID:806@thecraftchicks.com
DTSTART;TZID=America/Chicago:20260204T180000
DTEND;TZID=America/Chicago:20260204T200000
DTSTAMP:20260128T204931Z
URL:https://thecraftchicks.com/event/watercolor-wednesday-2026-02-04/
SUMMARY:Watercolor Wednesday
DESCRIPTION:Come and wet your watercolor palette with us here at The Craft 
 Chicks. Every Wednesday we are offering watercolor classes for all. Februa
 ry will be our flower month. Each Wednesday you will have the opportunity 
 to learn the techniques needed for our featured flower. You will leave the
  class with one 4x4 painting each week and the knowledge on how to make yo
 ur own.\n\nWatercolor is a very fluid art to come and have fun with. This 
 type of art tends to be more spontaneous! Your canvas creations will each 
 be unique and beautiful. You can improve  your skills in watercolor but n
 o prior knowledge is necessary. There will be an instructor present to wal
 k you through the creative process step-by-step. Each class will be $25. T
 his $25 will include the class\, paint\, instruction and one 4x4 canvas. (
 Each person must do their own canvas\, no project sharing.) Feel free to b
 ring Beverages and Snacks\, yes adult beverages are welcome. Please arrive
  10 min prior to class instruction will start promptly at 6pm. We look for
 ward to seeing soon! Register Now!\n\nFor any reason if you cannot attend 
 the class you will forfeit half of the 25$ you can always give your spot t
 o a friend.
ATTACH;FMTTYPE=image/jpeg:https://thecraftchicks.com/wp-content/uploads/20
 26/01/IMG_7769-scaled.jpg
CATEGORIES:Watercolor Painting
END:VEVENT
BEGIN:VTIMEZONE
TZID:America/Chicago
X-LIC-LOCATION:America/Chicago
BEGIN:STANDARD
DTSTART:20251102T010000
TZOFFSETFROM:-0500
TZOFFSETTO:-0600
TZNAME:CST
END:STANDARD
END:VTIMEZONE
END:VCALENDAR