BEGIN:VCALENDAR
VERSION:2.0
PRODID:-//wp-events-plugin.com//7.2.3.1//EN
TZID:America/Chicago
X-WR-TIMEZONE:America/Chicago
BEGIN:VEVENT
UID:807@thecraftchicks.com
DTSTART;TZID=America/Chicago:20260211T180000
DTEND;TZID=America/Chicago:20260211T200000
DTSTAMP:20260128T205433Z
URL:https://thecraftchicks.com/event/watercolor-wednesday-2026-02-04-2026-
 02-11/
SUMMARY:Watercolor Wednesday
DESCRIPTION:Come and wet your watercolor palette with us here at The Craft 
 Chicks. Every Wednesday we are offering watercolor classes for all. Februa
 ry will be our flower month. Each Wednesday you will have the opportunity 
 to learn the techniques needed for our featured flower. You will leave the
  class with one 4x4 paintings and the knowledge on how to make your own.\n
 \nWatercolor is a very fluid art to come and have fun with. This type of a
 rt tends to be more spontaneous! Your canvas creation will each be unique 
 and beautiful. You can improve  your skills in watercolor but no prior kn
 owledge is necessary. There will be an instructor present to walk you thro
 ugh the creative process step-by-step.\n\nEach class will be $25.\n\nThis 
 $25 will include the class\, paint\, instruction and one 4x4 canvases. (Ea
 ch person must do their own canvas\, no project sharing.) Feel free to bri
 ng Beverages and Snacks\, yes adult beverages are welcome. Please arrive 1
 0min prior to class instruction will start promptly at 6pm. We look forwar
 d to seeing soon! Register Now!\n\nFor any reason if you cannot attend the
  class you will forfeit half of the 25$ you can always give your spot to a
  friend.
ATTACH;FMTTYPE=image/jpeg:https://thecraftchicks.com/wp-content/uploads/20
 26/01/IMG_7770-scaled.jpg
CATEGORIES:Watercolor Painting
END:VEVENT
BEGIN:VTIMEZONE
TZID:America/Chicago
X-LIC-LOCATION:America/Chicago
BEGIN:STANDARD
DTSTART:20251102T010000
TZOFFSETFROM:-0500
TZOFFSETTO:-0600
TZNAME:CST
END:STANDARD
END:VTIMEZONE
END:VCALENDAR