BEGIN:VCALENDAR
VERSION:2.0
PRODID:-//wp-events-plugin.com//7.2.3.1//EN
TZID:America/Chicago
X-WR-TIMEZONE:America/Chicago
BEGIN:VEVENT
UID:808@thecraftchicks.com
DTSTART;TZID=America/Chicago:20260218T180000
DTEND;TZID=America/Chicago:20260218T200000
DTSTAMP:20260128T205349Z
URL:https://thecraftchicks.com/event/watercolor-wednesday-2026-02-04-2026-
 02-11-2026-02-18/
SUMMARY:Watercolor Wednesday
DESCRIPTION:Come and wet your watercolor palette with us here at The Craft 
 Chicks. Every Wednesday we are offering watercolor classes for all. Februa
 ry will be our flower month.\n\nEach Wednesday you will have the opportuni
 ty to learn the techniques needed for our featured flower.\n\nYou will lea
 ve the class with one 4x4 paintings and the knowledge on how to make your 
 own.\n\nWatercolor is a very fluid art to come and have fun with. This typ
 e of art tends to be more spontaneous! Your canvas creation will each be u
 nique and beautiful.\n\nYou can improve  your skills in watercolor but no
  prior knowledge is necessary. There will be an instructor present to walk
  you through the creative process step-by-step. Each class will be $25. Th
 is $25 will include the class\, paint\, instruction and one 4x4 canvases. 
 (Each person must do their own canvas\, no project sharing.) Feel free to 
 bring Beverages and Snacks\, yes adult beverages are welcome. Please arriv
 e 10min prior to class instruction will start promptly at 6pm. We look for
 ward to seeing soon! Register Now!\n\nFor any reason if you cannot attend 
 the class you will forfeit half of the 25$ you can always give your spot t
 o a friend.
ATTACH;FMTTYPE=image/jpeg:https://thecraftchicks.com/wp-content/uploads/20
 26/01/IMG_7771-scaled.jpg
CATEGORIES:Watercolor Painting
END:VEVENT
BEGIN:VTIMEZONE
TZID:America/Chicago
X-LIC-LOCATION:America/Chicago
BEGIN:STANDARD
DTSTART:20251102T010000
TZOFFSETFROM:-0500
TZOFFSETTO:-0600
TZNAME:CST
END:STANDARD
END:VTIMEZONE
END:VCALENDAR