BEGIN:VCALENDAR
VERSION:2.0
PRODID:-//wp-events-plugin.com//7.2.3.1//EN
TZID:America/Chicago
X-WR-TIMEZONE:America/Chicago
BEGIN:VEVENT
UID:938@thecraftchicks.com
DTSTART;TZID=America/Chicago:20260304T180000
DTEND;TZID=America/Chicago:20260304T200000
DTSTAMP:20260302T194707Z
URL:https://thecraftchicks.com/event/watercolor-wednesday-2-2026-03-04/
SUMMARY:Watercolor Wednesday
DESCRIPTION:&nbsp\;\n\nMarch is Go Texan month!!!\n\n&nbsp\;\n\nCome and we
 t your watercolor palette with us here at The Craft Chicks. Every Wednesda
 y we are offering watercolor classes for all. Watercolor is a very fluid a
 rt to come and have fun with. This type of art tends to be more spontaneou
 s! Your canvas creations will each be unique and beautiful. You can improv
 e  your skills in watercolor but no prior knowledge is necessary. There w
 ill be an instructor present to walk you through the creative process step
 -by-step. Please arrive 10min prior to class instruction will start prompt
 ly at 6pm. We look forward to seeing soon! Register Now! Registration will
  close one day prior to class!\n\n&nbsp\;
ATTACH;FMTTYPE=image/jpeg:https://thecraftchicks.com/wp-content/uploads/20
 26/02/IMG_8551.jpg
CATEGORIES:Watercolor Painting
END:VEVENT
BEGIN:VTIMEZONE
TZID:America/Chicago
X-LIC-LOCATION:America/Chicago
BEGIN:STANDARD
DTSTART:20251102T010000
TZOFFSETFROM:-0500
TZOFFSETTO:-0600
TZNAME:CST
END:STANDARD
END:VTIMEZONE
END:VCALENDAR