BEGIN:VCALENDAR
VERSION:2.0
PRODID:-//wp-events-plugin.com//7.2.3.1//EN
TZID:America/Chicago
X-WR-TIMEZONE:America/Chicago
BEGIN:VEVENT
UID:939@thecraftchicks.com
DTSTART;TZID=America/Chicago:20260311T180000
DTEND;TZID=America/Chicago:20260311T200000
DTSTAMP:20260302T194840Z
URL:https://thecraftchicks.com/event/watercolor-wednesday-2-2026-03-04-202
 6-03-11/
SUMMARY:Watercolor Wednesday
DESCRIPTION:&nbsp\;\n\nMarch is Go Texan Month!\n\n&nbsp\;\n\nCome and wet 
 your watercolor palette with us here at The Craft Chicks. Every Wednesday 
 we are offering watercolor classes for all. Watercolor is a very fluid art
  to come and have fun with. This type of art tends to be more spontaneous!
  Your canvas creations will each be unique and beautiful. You can improve
   your skills in watercolor but no prior knowledge is necessary. There wi
 ll be an instructor present to walk you through the creative process step-
 by-step. Please arrive 10min prior to class instruction will start promptl
 y at 6pm. We look forward to seeing soon! Register Now! Registration will 
 close one day prior to class!\n\n&nbsp\;
ATTACH;FMTTYPE=image/jpeg:https://thecraftchicks.com/wp-content/uploads/20
 26/02/IMG_8553.jpg
CATEGORIES:Watercolor Painting
END:VEVENT
BEGIN:VTIMEZONE
TZID:America/Chicago
X-LIC-LOCATION:America/Chicago
BEGIN:DAYLIGHT
DTSTART:20260308T030000
TZOFFSETFROM:-0600
TZOFFSETTO:-0500
TZNAME:CDT
END:DAYLIGHT
END:VTIMEZONE
END:VCALENDAR