BEGIN:VCALENDAR
VERSION:2.0
PRODID:-//wp-events-plugin.com//7.2.3.1//EN
TZID:America/Chicago
X-WR-TIMEZONE:America/Chicago
BEGIN:VEVENT
UID:940@thecraftchicks.com
DTSTART;TZID=America/Chicago:20260318T180000
DTEND;TZID=America/Chicago:20260318T200000
DTSTAMP:20260302T195110Z
URL:https://thecraftchicks.com/event/watercolor-wednesday-2-2026-03-04-202
 6-03-11-2026-03-18/
SUMMARY:Watercolor Wednesday
DESCRIPTION:March is Go Texan month!!\n\n&nbsp\;\n\nCome and wet your water
 color palette with us here at The Craft Chicks. Every Wednesday we are off
 ering watercolor classes for all. Watercolor is a very fluid art to come a
 nd have fun with. This type of art tends to be more spontaneous! Your canv
 as creations will each be unique and beautiful. You can improve  your ski
 lls in watercolor but no prior knowledge is necessary. There will be an in
 structor present to walk you through the creative process step-by-step. Pl
 ease arrive 10min prior to class instruction will start promptly at 6pm. W
 e look forward to seeing soon! Register Now! Registration will close one d
 ay prior to class!\n\n&nbsp\;
ATTACH;FMTTYPE=image/jpeg:https://thecraftchicks.com/wp-content/uploads/20
 26/02/IMG_8528.jpg
CATEGORIES:Watercolor Painting
END:VEVENT
BEGIN:VTIMEZONE
TZID:America/Chicago
X-LIC-LOCATION:America/Chicago
BEGIN:DAYLIGHT
DTSTART:20260308T030000
TZOFFSETFROM:-0600
TZOFFSETTO:-0500
TZNAME:CDT
END:DAYLIGHT
END:VTIMEZONE
END:VCALENDAR