BEGIN:VCALENDAR
VERSION:2.0
PRODID:-//wp-events-plugin.com//7.2.3.1//EN
TZID:America/Chicago
X-WR-TIMEZONE:America/Chicago
BEGIN:VEVENT
UID:517@thecraftchicks.com
DTSTART;TZID=America/Chicago:20250618T130000
DTEND;TZID=America/Chicago:20250620T170000
DTSTAMP:20250605T200623Z
URL:https://thecraftchicks.com/event-recurring/walk-in/
SUMMARY:Walk-In
DESCRIPTION:This week we have Kids Camp so we will not take Walk-Ins Until 
 1pm. Camp ends at 12pm but we will need an hour to refresh everythings. Th
 is is walk-ins only meaning no custom laser cut projects at this time but 
 we have tons of projects available also You can still customize your stenc
 il! Projects avagee between start 35$-5$. We take the last walk in at 3:3
 0
ATTACH;FMTTYPE=image/jpeg:https://thecraftchicks.com/wp-content/uploads/20
 25/06/Beige-Aesthetic-Moment-Portrait-Photo-Collage.png
END:VEVENT
BEGIN:VTIMEZONE
TZID:America/Chicago
X-LIC-LOCATION:America/Chicago
BEGIN:DAYLIGHT
DTSTART:20250309T030000
TZOFFSETFROM:-0600
TZOFFSETTO:-0500
TZNAME:CDT
END:DAYLIGHT
END:VTIMEZONE
END:VCALENDAR