BEGIN:VCALENDAR
VERSION:2.0
PRODID:-//wp-events-plugin.com//7.2.3.1//EN
TZID:America/Chicago
X-WR-TIMEZONE:America/Chicago
BEGIN:VEVENT
UID:753@thecraftchicks.com
DTSTART;TZID=America/Chicago:20260123T110000
DTEND;TZID=America/Chicago:20260123T170000
DTSTAMP:20260124T160351Z
URL:https://thecraftchicks.com/event/walk-in-6-2026-01-23/
SUMMARY:Walk-In
DESCRIPTION:Come Walk-in and do one of our many projects. Lots to choose fr
 om! You can do one of our readily available laser cut projects or you can 
 custom design your stencil. (Custom designs not available in laser cut opt
 ions if you want a custom project please register in reserve and customize
 .) Projects average 20$-55$. See the event photo it has many of the projec
 ts we in stock. Remember you can customize your stencil to create about an
 ything you want!! We take the last walkin at 3:30pm. Feel free to bring dr
 inks\, snacks\, (yes adult beverages are welcome). When you walk-In you ca
 n select any project we have stock. You can also customize pallets\, stove
  top covers\, and door hangers that we have in stock. We do NOT guarantee 
 that the project you have in mind will be in stock\, that includes Pallets
 \, trays\, stove top covers\, porch signs and door hangers etc.\n\nPlease 
 Call and Check Calendar before you come in to make sure day is still open 
 to walk-Ins. We Reserve the right to cancel walk-ins if a Party Books that
  Day.
ATTACH;FMTTYPE=image/jpeg:https://thecraftchicks.com/wp-content/uploads/20
 26/01/Beige-Aesthetic-Moment-Portrait-Photo-Collage-1.jpg
CATEGORIES:walk in workshops
END:VEVENT
BEGIN:VTIMEZONE
TZID:America/Chicago
X-LIC-LOCATION:America/Chicago
BEGIN:STANDARD
DTSTART:20251102T010000
TZOFFSETFROM:-0500
TZOFFSETTO:-0600
TZNAME:CST
END:STANDARD
END:VTIMEZONE
END:VCALENDAR