BEGIN:VCALENDAR
VERSION:2.0
PRODID:-//wp-events-plugin.com//7.2.3.1//EN
TZID:America/Chicago
X-WR-TIMEZONE:America/Chicago
BEGIN:VEVENT
UID:534@thecraftchicks.com
DTSTART;TZID=America/Chicago:20250709T130000
DTEND;TZID=America/Chicago:20250709T170000
DTSTAMP:20250605T205543Z
URL:https://thecraftchicks.com/event/walk-in-5/
SUMMARY:Walk-In
DESCRIPTION:This week we have Kids Camp so we will not take Walk-Ins Until 
 1pm. Camp ends at 12pm but we will need an hour to refresh everythings.\n\
 nCome walk in and create one of our many projects. Lots to choose from! At
  this time we are not taking custom laser designs but you can still make m
 any of our other laser projects we keep in stock. You can still choose and
  design your custom stencil. Projects average 30$-55$. See the image for t
 his event it has many of the projects we have in stock. Remember you can c
 ustomize your stencil to create about anything you want!! We take the last
  walkin at 3:30pm. Feel free to bring drinks\, snacks\, and yes adult beve
 rages are welcome.
ATTACH;FMTTYPE=image/jpeg:https://thecraftchicks.com/wp-content/uploads/20
 25/06/Beige-Aesthetic-Moment-Portrait-Photo-Collage-1.png
END:VEVENT
BEGIN:VTIMEZONE
TZID:America/Chicago
X-LIC-LOCATION:America/Chicago
BEGIN:DAYLIGHT
DTSTART:20250309T030000
TZOFFSETFROM:-0600
TZOFFSETTO:-0500
TZNAME:CDT
END:DAYLIGHT
END:VTIMEZONE
END:VCALENDAR