BEGIN:VCALENDAR
VERSION:2.0
PRODID:-//wp-events-plugin.com//7.2.3.1//EN
TZID:America/Chicago
X-WR-TIMEZONE:America/Chicago
BEGIN:VEVENT
UID:706@thecraftchicks.com
DTSTART;TZID=America/Chicago:20251108T110000
DTEND;TZID=America/Chicago:20251108T170000
DTSTAMP:20251107T215327Z
URL:https://thecraftchicks.com/event/walk-in-4-2025-11-08/
SUMMARY:Walk-IN SOLD OUT
DESCRIPTION:&nbsp\;\n\nNO WALK-INS WE ARE BOOKED OUT TODAY COME VISIT US AN
 OTHER DAY\n\nCome walk in and do one of our many projects. Lots to choose 
 from! You can still choose and design your custom stencil just not a laser
  cut. Projects average 30$-55$. See the image it has many of the projects 
 we in stock. Remember you can customize your stencil to create about anyth
 ing you want!! We take the last walkin at 3:30pm. Feel free to bring drink
 s\, snacks\, (yes adult beverages are welcome). When you walk-In You can s
 elect any project we have stock. You can also customize the pallets\, stov
 e top covers\, and door hangers with stencils just not custom laser design
 s. We do NOT guarantee that the project you have in mind will be in stock\
 , that includes Pallets\, trays\, stove top covers\, porch signs and door 
 hangers.\n\nPlease Check Calendar before you come in to make sure day is s
 till open to walk-Ins we Reserve the right to cancel walk-ins if a Party B
 ooks that Day.
ATTACH;FMTTYPE=image/jpeg:https://thecraftchicks.com/wp-content/uploads/20
 25/07/Beige-Aesthetic-Moment-Portrait-Photo-Collage.png
END:VEVENT
BEGIN:VTIMEZONE
TZID:America/Chicago
X-LIC-LOCATION:America/Chicago
BEGIN:STANDARD
DTSTART:20251102T010000
TZOFFSETFROM:-0500
TZOFFSETTO:-0600
TZNAME:CST
END:STANDARD
END:VTIMEZONE
END:VCALENDAR