BEGIN:VCALENDAR
VERSION:2.0
PRODID:-//wp-events-plugin.com//7.2.3.1//EN
TZID:America/Chicago
X-WR-TIMEZONE:America/Chicago
BEGIN:VEVENT
UID:560@thecraftchicks.com
DTSTART;TZID=America/Chicago:20250725T133000
DTEND;TZID=America/Chicago:20250725T173000
DTSTAMP:20250705T172359Z
URL:https://thecraftchicks.com/event/walk-in-3-2025-07-23-2025-07-24-2025-
 07-25/
SUMMARY:WALK-IN
DESCRIPTION:This week we have Kids Camp so we will not take Walk-Ins Until 
 1:30pm. Camp ends at 1pm but we will need 30 min. to refresh everything.\n
 \nCome walk in and create one of our many projects. Lots to choose from! A
 t this time we are not taking custom laser designs but you can still make 
 many of our other laser projects we keep in stock. You can still choose an
 d design your custom stencil. Projects average 30$-55$. See the image for 
 this event it has many of the projects we have in stock. Remember you can 
 customize your stencil to create about anything you want!! We take the las
 t walkin at 3:30pm. Feel free to bring drinks\, snacks\, and yes adult bev
 erages are welcome.
ATTACH;FMTTYPE=image/jpeg:https://thecraftchicks.com/wp-content/uploads/20
 25/06/Beige-Aesthetic-Moment-Portrait-Photo-Collage-1-1.png
END:VEVENT
BEGIN:VTIMEZONE
TZID:America/Chicago
X-LIC-LOCATION:America/Chicago
BEGIN:DAYLIGHT
DTSTART:20250309T030000
TZOFFSETFROM:-0600
TZOFFSETTO:-0500
TZNAME:CDT
END:DAYLIGHT
END:VTIMEZONE
END:VCALENDAR