BEGIN:VCALENDAR
VERSION:2.0
PRODID:-//wp-events-plugin.com//7.2.3.1//EN
TZID:America/Chicago
X-WR-TIMEZONE:America/Chicago
BEGIN:VEVENT
UID:528@thecraftchicks.com
DTSTART;TZID=America/Chicago:20250628T110000
DTEND;TZID=America/Chicago:20250628T170000
DTSTAMP:20250605T204101Z
URL:https://thecraftchicks.com/event/walk-in-2-2025-06-28/
SUMMARY:Walk-In
DESCRIPTION:Come walk in and create one of our many projects. Lots to choos
 e from! At this time we are not taking custom laser designs but you can st
 ill make many of our other laser projects we keep in stock. You can still 
 choose and design your custom stencil. Projects average 30$-55$. See the i
 mage for this event it has many of the projects we have in stock. Remember
  you can customize your stencil to create about anything you want!! We tak
 e the last walkin at 3:30pm. Feel free to bring drinks\, snacks\, and yes 
 adult beverages are welcome.
ATTACH;FMTTYPE=image/jpeg:https://thecraftchicks.com/wp-content/uploads/20
 25/06/Beige-Aesthetic-Moment-Portrait-Photo-Collage-1.png
END:VEVENT
BEGIN:VTIMEZONE
TZID:America/Chicago
X-LIC-LOCATION:America/Chicago
BEGIN:DAYLIGHT
DTSTART:20250309T030000
TZOFFSETFROM:-0600
TZOFFSETTO:-0500
TZNAME:CDT
END:DAYLIGHT
END:VTIMEZONE
END:VCALENDAR