BEGIN:VCALENDAR
VERSION:2.0
PRODID:-//wp-events-plugin.com//7.2.3.1//EN
TZID:America/Chicago
X-WR-TIMEZONE:America/Chicago
BEGIN:VEVENT
UID:736@thecraftchicks.com
DTSTART;TZID=America/Chicago:20251123T130000
DTEND;TZID=America/Chicago:20251123T180000
DTSTAMP:20251115T225157Z
URL:https://thecraftchicks.com/event/walk-in-1pm-6pm-2025-11-23/
SUMMARY:WALK-IN 1pm-6pm
DESCRIPTION:Come walk in and do one of our many projects. Projects average 
 20$-55$. See the image it has many of the projects we have in stock. Remem
 ber you can customize your stencil to create about anything you want!! We 
 take the last walkin at 4:00pm. Feel free to bring drinks\, snacks\, (yes 
 adult beverages are welcome). IF you want something give us a call or emai
 l us at least 5 days in advance.
ATTACH;FMTTYPE=image/jpeg:https://thecraftchicks.com/wp-content/uploads/20
 25/07/Beige-Aesthetic-Moment-Portrait-Photo-Collage-500-x-600-px-2.jpg
END:VEVENT
BEGIN:VTIMEZONE
TZID:America/Chicago
X-LIC-LOCATION:America/Chicago
BEGIN:STANDARD
DTSTART:20251102T010000
TZOFFSETFROM:-0500
TZOFFSETTO:-0600
TZNAME:CST
END:STANDARD
END:VTIMEZONE
END:VCALENDAR