BEGIN:VCALENDAR
VERSION:2.0
PRODID:-//wp-events-plugin.com//7.2.3.1//EN
TZID:America/Chicago
X-WR-TIMEZONE:America/Chicago
BEGIN:VEVENT
UID:824@thecraftchicks.com
DTSTART;TZID=America/Chicago:20260131T170000
DTEND;TZID=America/Chicago:20260131T200000
DTSTAMP:20260121T224439Z
URL:https://thecraftchicks.com/event/vision-board-workshop-create-with-int
 ention-2026-01-31/
SUMMARY:Vision Board Workshop – Create with Intention
DESCRIPTION:Create with purpose and community in our Vision Board Workshop\
 , designed for teens\, young adults\, and women of all ages. This guided\,
  creative experience helps you gain clarity\, focus\, and direction as you
  intentionally reflect on the year ahead. Vision boarding encourages goal-
 setting\, motivation\, and mindful planning while connecting with others w
 ho are also navigating what’s next. Leave with a beautiful\, personalize
 d vision board and a renewed sense of purpose. Complimentary Pizza and non
 alcoholic beverages.\nWe provide all the materials\, along with a 24x20 bo
 ard with frame. If you want to bring some old magazines to contribute to t
 he vibe- we will love you for that!!\n\n 
ATTACH;FMTTYPE=image/jpeg:https://thecraftchicks.com/wp-content/uploads/20
 26/01/F832A560-F109-49C1-B5EE-48D3B510A73A_4_5005_c.jpeg
CATEGORIES:Vision Board
END:VEVENT
BEGIN:VTIMEZONE
TZID:America/Chicago
X-LIC-LOCATION:America/Chicago
BEGIN:STANDARD
DTSTART:20251102T010000
TZOFFSETFROM:-0500
TZOFFSETTO:-0600
TZNAME:CST
END:STANDARD
END:VTIMEZONE
END:VCALENDAR