BEGIN:VCALENDAR
VERSION:2.0
PRODID:-//wp-events-plugin.com//7.2.3.1//EN
TZID:America/Chicago
X-WR-TIMEZONE:America/Chicago
BEGIN:VEVENT
UID:509@thecraftchicks.com
DTSTART;TZID=America/Chicago:20250612T110000
DTEND;TZID=America/Chicago:20250612T140000
DTSTAMP:20250522T233049Z
URL:https://thecraftchicks.com/event/teacher-event-private/
SUMMARY:Magnolia Teacher Event (Private)
DESCRIPTION:Hello and welcome to the Craft Chicks! We are so happy to be ho
 sting your paint party. You are welcome to bring food and drinks..yes to t
 he alcohol. Please register for a project below PLEASE EMAIL us the NAME y
 ou would like with your project option to thecraftchickstomball@gmail.com
  
ATTACH;FMTTYPE=image/jpeg:https://thecraftchicks.com/wp-content/uploads/20
 25/05/1-1.png
END:VEVENT
BEGIN:VTIMEZONE
TZID:America/Chicago
X-LIC-LOCATION:America/Chicago
BEGIN:DAYLIGHT
DTSTART:20250309T030000
TZOFFSETFROM:-0600
TZOFFSETTO:-0500
TZNAME:CDT
END:DAYLIGHT
END:VTIMEZONE
END:VCALENDAR