BEGIN:VCALENDAR
VERSION:2.0
PRODID:-//wp-events-plugin.com//7.2.3.1//EN
TZID:America/Chicago
X-WR-TIMEZONE:America/Chicago
BEGIN:VEVENT
UID:299@thecraftchicks.com
DTSTART;TZID=America/Chicago:20241123T150000
DTEND;TZID=America/Chicago:20241123T170000
DTSTAMP:20241115T174534Z
URL:https://thecraftchicks.com/event/studio-151-ornaments/
SUMMARY:Studio 151 Ornaments
DESCRIPTION:Order your ornament choice then please text name for the truck 
 or Grinch project to 281-732-3994 or email to thecraftchickstomball@gmail.
 com
ATTACH;FMTTYPE=image/jpeg:https://thecraftchicks.com/wp-content/uploads/20
 24/11/20.png
LOCATION:Studio 151 Hair Salon\, 405 E Main St\, Tomball\, TX 77375\, Tomba
 ll\, TX\, 77375\, United States
X-APPLE-STRUCTURED-LOCATION;VALUE=URI;X-ADDRESS=405 E Main St\, Tomball\, T
 X 77375\, Tomball\, TX\, 77375\, United States;X-APPLE-RADIUS=100;X-TITLE=
 Studio 151 Hair Salon:geo:0,0
END:VEVENT
BEGIN:VTIMEZONE
TZID:America/Chicago
X-LIC-LOCATION:America/Chicago
BEGIN:STANDARD
DTSTART:20241103T010000
TZOFFSETFROM:-0500
TZOFFSETTO:-0600
TZNAME:CST
END:STANDARD
END:VTIMEZONE
END:VCALENDAR