BEGIN:VCALENDAR
VERSION:2.0
PRODID:-//wp-events-plugin.com//7.2.3.1//EN
TZID:America/Chicago
X-WR-TIMEZONE:America/Chicago
BEGIN:VEVENT
UID:665@thecraftchicks.com
DTSTART;TZID=America/Chicago:20250914T130000
DTEND;TZID=America/Chicago:20250914T150000
DTSTAMP:20250806T202247Z
URL:https://thecraftchicks.com/event/sloanes-8th-birthday-party-private-ev
 ent/
SUMMARY:Sloane's 8th birthday Party PRIVATE EVENT
DESCRIPTION:Closed to Public for Sloanes 8th Birthday Party!!
ATTACH;FMTTYPE=image/jpeg:https://thecraftchicks.com/wp-content/uploads/20
 25/08/Copy-of-Beige-Collage-Year-Highlights-Instagram-Story-3.png
END:VEVENT
BEGIN:VTIMEZONE
TZID:America/Chicago
X-LIC-LOCATION:America/Chicago
BEGIN:DAYLIGHT
DTSTART:20250309T030000
TZOFFSETFROM:-0600
TZOFFSETTO:-0500
TZNAME:CDT
END:DAYLIGHT
END:VTIMEZONE
END:VCALENDAR