BEGIN:VCALENDAR
VERSION:2.0
PRODID:-//wp-events-plugin.com//7.2.3.1//EN
TZID:America/Chicago
X-WR-TIMEZONE:America/Chicago
BEGIN:VEVENT
UID:868@thecraftchicks.com
DTSTART;TZID=America/Chicago:20260314T180000
DTEND;TZID=America/Chicago:20260314T193000
DTSTAMP:20260304T230733Z
URL:https://thecraftchicks.com/event/sip-script%e2%93%a1-for-modern-callig
 raphy-fun/
SUMMARY:Sip & ScriptⓇ for Modern Calligraphy Fun!
DESCRIPTION:Join us at The Craft Chicksin Tomball\, TX for pretty letter
 ing! Whether you’re a stationery nerd\, DIY Bride-to-be\, or just a craf
 ty individual\, you’ll be introduced to modern calligraphy with a pointe
 d dip pen and ink in this workshop. We will cover all the basics and prepa
 re you to add those unique lettered details to your snail mail\, wedding p
 aper goods\, home decor\, and more! The perfect crafty night out!\n\nClass
  includes 1.5 hours of instruction and demonstration\, our beginner’s ca
 lligraphy kit (two nibs\, black ink pot\, 2 letter guides\, tracing paper\
 , and straight pen holder)\, and all materials to write on. Everything is 
 yours to keep at the end of the workshop!\n\nCLICK HERE TO REGISTER
ATTACH;FMTTYPE=image/jpeg:https://thecraftchicks.com/wp-content/uploads/20
 26/02/Screenshot-2026-02-27-at-1.01.31-PM.png
CATEGORIES:Sip and Script
END:VEVENT
BEGIN:VTIMEZONE
TZID:America/Chicago
X-LIC-LOCATION:America/Chicago
BEGIN:DAYLIGHT
DTSTART:20260308T030000
TZOFFSETFROM:-0600
TZOFFSETTO:-0500
TZNAME:CDT
END:DAYLIGHT
END:VTIMEZONE
END:VCALENDAR