BEGIN:VCALENDAR
VERSION:2.0
PRODID:-//wp-events-plugin.com//7.2.3.1//EN
TZID:America/Chicago
X-WR-TIMEZONE:America/Chicago
BEGIN:VEVENT
UID:820@thecraftchicks.com
DTSTART;TZID=America/Chicago:20260207T180000
DTEND;TZID=America/Chicago:20260207T210000
DTSTAMP:20260120T192739Z
URL:https://thecraftchicks.com/event/saturday-night-paint-and-sip/
SUMMARY:SATURDAY NIGHT Paint and Sip
DESCRIPTION:Canvas Paint- relax and sip with us!\n\n&nbsp\;\n\nThe Craft Ch
 ick's present CANVAS PAINTING-\n\nCome for a few hours and make fun art wi
 th us!\n\nOur class does not require any prior painting experience or skil
 l.\n\nEach canvas will be 16x20 and cost $55\n\nWe provide all of the art 
 supplies and instructions and one glass of wine. Feel free to bring your o
 wn snacks and beverages adult or otherwise.\n\nOur Saturday night classes 
 are geared toward adults only\, great for friends\, girls nights and date 
 nights.\n\nOur artist will walk you through the featured canvas painting s
 tep-by-step.\n\nEvery person will leave with their own canvas\, with their
  own personal touch. All projects can be taken home that same night.\n\nPl
 ease arrive 10min before class time\, instruction will begin promptly at 6
 pm. If you are unable to attend the class you will forfeit half of your $5
 5. You can always give your spot to a friend .\n\nWe will have 2 options f
 or this class\, The dancing couple\, or the stargazing couple.  Please se
 lect your favorite piece to paint when you register.\n\n&nbsp\;\n\n \n\n&n
 bsp\;\n\n&nbsp\;
ATTACH;FMTTYPE=image/jpeg:https://thecraftchicks.com/wp-content/uploads/20
 26/01/FFC68A95-32CF-4D3E-989E-1A0DDA47694E_1_102_o.jpeg
CATEGORIES:canvas painting
END:VEVENT
BEGIN:VTIMEZONE
TZID:America/Chicago
X-LIC-LOCATION:America/Chicago
BEGIN:STANDARD
DTSTART:20251102T010000
TZOFFSETFROM:-0500
TZOFFSETTO:-0600
TZNAME:CST
END:STANDARD
END:VTIMEZONE
END:VCALENDAR