BEGIN:VCALENDAR
VERSION:2.0
PRODID:-//wp-events-plugin.com//7.2.3.1//EN
TZID:America/Chicago
X-WR-TIMEZONE:America/Chicago
BEGIN:VEVENT
UID:260@thecraftchicks.com
DTSTART;TZID=America/Chicago:20241025T180000
DTEND;TZID=America/Chicago:20241025T200000
DTSTAMP:20241005T205121Z
URL:https://thecraftchicks.com/event/resin-pumpkins-2/
SUMMARY:Resin Pumpkins
DESCRIPTION:Come and resin with us make and make a one of a kind Pumpkin. O
 ver 50 resin colors to choose from with no limit on colors or media everyt
 hing is included in price. These are our resin Pumpkins they are a very be
 autiful and eye catching piece to add to your fall decor. Bring a friend d
 rinks food and come and have a good time at the Craft Chicks. Pumpkins wil
 l have to stay for 3 days while they cure and are sanded. Click Register h
 ere to sign up for the class each class!\n\n&nbsp\;\n\nREGISTER HERE\n\n&n
 bsp\;
ATTACH;FMTTYPE=image/jpeg:https://thecraftchicks.com/wp-content/uploads/20
 24/05/385046496_18294063904131928_3316910918303798873_n.jpeg
END:VEVENT
BEGIN:VTIMEZONE
TZID:America/Chicago
X-LIC-LOCATION:America/Chicago
BEGIN:DAYLIGHT
DTSTART:20240310T030000
TZOFFSETFROM:-0600
TZOFFSETTO:-0500
TZNAME:CDT
END:DAYLIGHT
END:VTIMEZONE
END:VCALENDAR