BEGIN:VCALENDAR
VERSION:2.0
PRODID:-//wp-events-plugin.com//7.2.3.1//EN
TZID:America/Chicago
X-WR-TIMEZONE:America/Chicago
BEGIN:VEVENT
UID:468@thecraftchicks.com
DTSTART;TZID=America/Chicago:20250307T180000
DTEND;TZID=America/Chicago:20250307T200000
DTSTAMP:20250222T011545Z
URL:https://thecraftchicks.com/event/resin-glass-ocean-art-2/
SUMMARY:Resin Glass Ocean Art
DESCRIPTION:This is a new class that will be taught here at the The Craft C
 hicks. We will use UV resistant resin to create beautiful sea theme glass 
 art. Feel free to BYOB. Bring a friend and make something truly unique. Al
 l supplies are provided! Choose one of the three design when you are at cl
 ass! There will only be 4 classes offered of these designs. They will come
  back for the month of June. Only 12 per class so Register below!\n\nWave\
 n\nOcean\n\nMermaid Tail and beach\n\nClick Here to Register Now
ATTACH;FMTTYPE=image/jpeg:https://thecraftchicks.com/wp-content/uploads/20
 25/02/Beige-Simple-Travel-Inspiration-Photo-Collage-Instagram-Post-1.png
END:VEVENT
BEGIN:VTIMEZONE
TZID:America/Chicago
X-LIC-LOCATION:America/Chicago
BEGIN:STANDARD
DTSTART:20241103T010000
TZOFFSETFROM:-0500
TZOFFSETTO:-0600
TZNAME:CST
END:STANDARD
END:VTIMEZONE
END:VCALENDAR