BEGIN:VCALENDAR
VERSION:2.0
PRODID:-//wp-events-plugin.com//7.2.3.1//EN
TZID:America/Chicago
X-WR-TIMEZONE:America/Chicago
BEGIN:VEVENT
UID:476@thecraftchicks.com
DTSTART;TZID=America/Chicago:20250311T140000
DTEND;TZID=America/Chicago:20250311T160000
DTSTAMP:20250305T224156Z
URL:https://thecraftchicks.com/event/resin-glass-art/
SUMMARY:Resin Glass Art
DESCRIPTION:Resin Art Glass Art Class for kids and Adults. If kids are part
 icipating parents must be present.\n\nPlease Register Below\n\nREGISTER HE
 RE
ATTACH;FMTTYPE=image/jpeg:https://thecraftchicks.com/wp-content/uploads/20
 25/02/Beige-Simple-Travel-Inspiration-Photo-Collage-Instagram-Post-1.png
END:VEVENT
BEGIN:VTIMEZONE
TZID:America/Chicago
X-LIC-LOCATION:America/Chicago
BEGIN:DAYLIGHT
DTSTART:20250309T030000
TZOFFSETFROM:-0600
TZOFFSETTO:-0500
TZNAME:CDT
END:DAYLIGHT
END:VTIMEZONE
END:VCALENDAR