BEGIN:VCALENDAR
VERSION:2.0
PRODID:-//wp-events-plugin.com//7.2.3.1//EN
TZID:America/Chicago
X-WR-TIMEZONE:America/Chicago
BEGIN:VEVENT
UID:341@thecraftchicks.com
DTSTART;TZID=America/Chicago:20241206T180000
DTEND;TZID=America/Chicago:20241206T200000
DTSTAMP:20241204T235450Z
URL:https://thecraftchicks.com/event/resin-gingerbread-houses/
SUMMARY:RESIN GINGERBREAD HOUSES
DESCRIPTION:Come and have a wonderful time here at the Craft Chicks Tomball
  at Our Resin Class. BYOY\n\nDeposit for gingerbread house is 30$ the othe
 r 30$ will be collected at class. The 30$ deposit is non-refundable.\n\nDe
 posit for the Charcuterie Board is 30$ the other 40$ will be collected at 
 Class.
ATTACH;FMTTYPE=image/jpeg:https://thecraftchicks.com/wp-content/uploads/20
 24/12/20-2.png
END:VEVENT
BEGIN:VTIMEZONE
TZID:America/Chicago
X-LIC-LOCATION:America/Chicago
BEGIN:STANDARD
DTSTART:20241103T010000
TZOFFSETFROM:-0500
TZOFFSETTO:-0600
TZNAME:CST
END:STANDARD
END:VTIMEZONE
END:VCALENDAR