BEGIN:VCALENDAR
VERSION:2.0
PRODID:-//wp-events-plugin.com//7.2.3.1//EN
TZID:America/Chicago
X-WR-TIMEZONE:America/Chicago
BEGIN:VEVENT
UID:262@thecraftchicks.com
DTSTART;TZID=America/Chicago:20250829T180000
DTEND;TZID=America/Chicago:20250829T200000
DTSTAMP:20250827T181910Z
URL:https://thecraftchicks.com/event/resin-charcuterie-board-workshop-4/
SUMMARY:Resin Charcuterie Board Craft SOLD OUT!!
DESCRIPTION:&nbsp\;\n\nSOLD OUT!!!\n\nCome and resin with us create a fanta
 stic Charcuterie unique board. Over 50 resin colors to choose from with no
  limit on colors or media. This will be the perfect decor for the holidays
  and all the hosting you will be doing. They make a beautiful accent piece
  and gifts. You can choose either a Large charcuterie or a traditional Cha
 rcuterie board. Boards are $49. If you want the board engraved the charge 
 will be and and extra 30$ . You will register here and pay 5$ to hold your
  spot this 5$ will go toward your project you will pay the rest to the res
 in instructor after the class. You can also pay for you engraving here if 
 you would like one. BYOB! You can Bring your own snack and Drinks\n\nBoard
 s are $49 (20in long and 8 in wide)                          
                                                  
                                                  
                                                  
                                                  
                 Engraving $30 (makes a wonderful counter accent an
 d Gift)\n\nLarge Boards $100 )36in long and 8inwide               
                                                  
                                                  
                                                  
                                                  
                                        Engraving $55 (m
 akes a wonderful counter accent and Gift)\n\n&nbsp\;\n\n&nbsp\;\n\n&nbsp\;
 \n\n&nbsp\;\n\n&nbsp\;\n\n&nbsp\;
ATTACH;FMTTYPE=image/jpeg:https://thecraftchicks.com/wp-content/uploads/20
 24/05/Screen-Shot-2024-05-02-at-4.11.22-PM-e1715875682385.png
END:VEVENT
BEGIN:VTIMEZONE
TZID:America/Chicago
X-LIC-LOCATION:America/Chicago
BEGIN:DAYLIGHT
DTSTART:20250309T030000
TZOFFSETFROM:-0600
TZOFFSETTO:-0500
TZNAME:CDT
END:DAYLIGHT
END:VTIMEZONE
END:VCALENDAR