BEGIN:VCALENDAR
VERSION:2.0
PRODID:-//wp-events-plugin.com//7.2.3.1//EN
TZID:America/Chicago
X-WR-TIMEZONE:America/Chicago
BEGIN:VEVENT
UID:261@thecraftchicks.com
DTSTART;TZID=America/Chicago:20241019T180000
DTEND;TZID=America/Chicago:20241019T200000
DTSTAMP:20241005T211025Z
URL:https://thecraftchicks.com/event/resin-charcuterie-board-workshop-3/
SUMMARY:Resin Charcuterie Board Workshop
DESCRIPTION:Come and resin with us create a fantastic Charcuterie board. Ov
 er 50 resin colors to choose from with no limit on colors or media everyth
 ing is included in price. This will be the perfect decor for the holidays 
 and all the hosting you will be doing. You can choose either a pumpkin Cha
 rcuterie board a traditional Charcuterie board.  Click link to REGISTER.\
 n\n&nbsp\;\n\nREGISTER HERE\n\n&nbsp\;\n\n&nbsp\;\n\n&nbsp\;
ATTACH;FMTTYPE=image/jpeg:https://thecraftchicks.com/wp-content/uploads/20
 24/10/20230622_195335-scaled-e1728162039854.jpg
END:VEVENT
BEGIN:VTIMEZONE
TZID:America/Chicago
X-LIC-LOCATION:America/Chicago
BEGIN:DAYLIGHT
DTSTART:20240310T030000
TZOFFSETFROM:-0600
TZOFFSETTO:-0500
TZNAME:CDT
END:DAYLIGHT
END:VTIMEZONE
END:VCALENDAR