BEGIN:VCALENDAR
VERSION:2.0
PRODID:-//wp-events-plugin.com//7.2.3.1//EN
TZID:America/Chicago
X-WR-TIMEZONE:America/Chicago
BEGIN:VEVENT
UID:488@thecraftchicks.com
DTSTART;TZID=America/Chicago:20250615T130000
DTEND;TZID=America/Chicago:20250615T180000
DTSTAMP:20250410T185745Z
URL:https://thecraftchicks.com/event/reserve-customize-2025-06-15/
SUMMARY:Reserve & Customize
DESCRIPTION:Want a Custom Project! Send us an email and picture of the proj
 ect you want. You have to send  via email it to thecraftchickstomball@gma
 il.com  3 business days prior to your selected day. We will have your pro
 ject selection ready for you when you get here. These choices can be laser
  designs\, stencils or pallets of your choice. If you have questions pleas
 e give us a call. A deposit of 20$ is required to hold your seat. This dep
 osit will go toward your project at check out. Unlike our walk-ins these a
 re more customizable you can have your choice of laser cut just send us a 
 photo of what you would like to the email above. ALSO remember you can bri
 ng your own snacks and drinks (Adult beverages are welcomed)
ATTACH;FMTTYPE=image/jpeg:https://thecraftchicks.com/wp-content/uploads/20
 23/01/297433612_3298648490349811_3506301000808781952_n.jpg
END:VEVENT
BEGIN:VTIMEZONE
TZID:America/Chicago
X-LIC-LOCATION:America/Chicago
BEGIN:DAYLIGHT
DTSTART:20250309T030000
TZOFFSETFROM:-0600
TZOFFSETTO:-0500
TZNAME:CDT
END:DAYLIGHT
END:VTIMEZONE
END:VCALENDAR