BEGIN:VCALENDAR
VERSION:2.0
PRODID:-//wp-events-plugin.com//7.2.3.1//EN
TZID:America/Chicago
X-WR-TIMEZONE:America/Chicago
BEGIN:VEVENT
UID:456@thecraftchicks.com
DTSTART;TZID=America/Chicago:20250516T110000
DTEND;TZID=America/Chicago:20250516T170000
DTSTAMP:20250219T200752Z
URL:https://thecraftchicks.com/event/reserve-and-customize-2-2025-05-16/
SUMMARY:Reserve and Customize
DESCRIPTION:Want a Custom Project! Send us an email and picture of the proj
 ect you want. You have to send  via email it to thecraftchickstomball@gm
 ail.com  3 business days prior to your selected day. We will have your 
 project selection ready for you when you get here. These choices can be la
 ser designs\, stencils or pallets of your choice. If you have questions pl
 ease give us a call  (832) 559-8060. A deposit of 20$ is required to ho
 ld your seat. This deposit will go toward your project at check out. Unlik
 e our walk-ins these are more customizable you can have your choice of las
 er cut just send us a photo of what you would like to the email above. ALS
 O remember you can bring your own snacks and drinks (Adult beverages are w
 elcomed)
ATTACH;FMTTYPE=image/jpeg:https://thecraftchicks.com/wp-content/uploads/20
 24/10/Screen-Shot-2022-02-25-at-1.58.10-PM.png
END:VEVENT
BEGIN:VTIMEZONE
TZID:America/Chicago
X-LIC-LOCATION:America/Chicago
BEGIN:DAYLIGHT
DTSTART:20250309T030000
TZOFFSETFROM:-0600
TZOFFSETTO:-0500
TZNAME:CDT
END:DAYLIGHT
END:VTIMEZONE
END:VCALENDAR