BEGIN:VCALENDAR
VERSION:2.0
PRODID:-//wp-events-plugin.com//7.2.3.1//EN
TZID:America/Chicago
X-WR-TIMEZONE:America/Chicago
BEGIN:VEVENT
UID:678@thecraftchicks.com
DTSTART;TZID=America/Chicago:20250928T133000
DTEND;TZID=America/Chicago:20250928T160000
DTSTAMP:20250910T185449Z
URL:https://thecraftchicks.com/event/pumpkin-spice-girls-craft-day/
SUMMARY:Pumpkin Spice Girls Craft Day
DESCRIPTION:HELLO Y'ALL!! Welcome to the craft chicks feel free to bring dr
 inks\, snack etc.\n\nEveryone must Register by September 19th.\n\nWe will 
 see you soon!
ATTACH;FMTTYPE=image/jpeg:https://thecraftchicks.com/wp-content/uploads/20
 25/09/Copy-of-Beige-Collage-Year-Highlights-Instagram-Story-6.png
END:VEVENT
BEGIN:VTIMEZONE
TZID:America/Chicago
X-LIC-LOCATION:America/Chicago
BEGIN:DAYLIGHT
DTSTART:20250309T030000
TZOFFSETFROM:-0600
TZOFFSETTO:-0500
TZNAME:CDT
END:DAYLIGHT
END:VTIMEZONE
END:VCALENDAR