BEGIN:VCALENDAR
VERSION:2.0
PRODID:-//wp-events-plugin.com//7.2.3.1//EN
TZID:America/Chicago
X-WR-TIMEZONE:America/Chicago
BEGIN:VEVENT
UID:516@thecraftchicks.com
DTSTART;TZID=America/Chicago:20250614T140000
DTEND;TZID=America/Chicago:20250614T170000
DTSTAMP:20250607T141923Z
URL:https://thecraftchicks.com/event/private-event-birthday-party/
SUMMARY:Private Event Birthday Party
DESCRIPTION:Custom laser Projects are 55$. Feel free to look at our faceboo
 k for designs. Or you can choose a stencil project on round 22in circle fo
 r 45$ we can custom stencils. Please send all your designs to thecraftchic
 kstomball@gamil.com. Please note that your deposit is non-refundable but d
 oes go toward your project. (Example: Project cost 55$ you pay $20 deposit
  so at check-out you pay 35$). Feel free to bring beverages adult or other
 wise\, snacks\, food etc. See you soon\n\nALSO DESIGNS but be SVG files or
  Cut files. No paintings.
ATTACH;FMTTYPE=image/jpeg:https://thecraftchicks.com/wp-content/uploads/20
 24/06/Screen-Shot-2024-06-11-at-11.30.43-AM.png
END:VEVENT
BEGIN:VTIMEZONE
TZID:America/Chicago
X-LIC-LOCATION:America/Chicago
BEGIN:DAYLIGHT
DTSTART:20250309T030000
TZOFFSETFROM:-0600
TZOFFSETTO:-0500
TZNAME:CDT
END:DAYLIGHT
END:VTIMEZONE
END:VCALENDAR