BEGIN:VCALENDAR
VERSION:2.0
PRODID:-//wp-events-plugin.com//7.2.3.1//EN
TZID:America/Chicago
X-WR-TIMEZONE:America/Chicago
BEGIN:VEVENT
UID:885@thecraftchicks.com
DTSTART;TZID=America/Chicago:20260228T140000
DTEND;TZID=America/Chicago:20260228T160000
DTSTAMP:20260214T223800Z
URL:https://thecraftchicks.com/event/prime-team-building-event/
SUMMARY:Prime Team Building Event
DESCRIPTION:Hello and Welcome to The Craft Chicks! We are so happy to be ho
 sting your volleyball group here. These projects are custom so they are no
 n-refundable once you register. All registrations must be in 3 days prior 
 to event. If you register with a project that has a name please enter the 
 name in Notes. Feel free to bring food\, drinks and team spirit and we wil
 l see you February 28th at 2-pm.\n\nBows are not included in project cost 
 but are available for additional cost $10-$15.\n\n&nbsp\;
ATTACH;FMTTYPE=image/jpeg:https://thecraftchicks.com/wp-content/uploads/20
 26/02/1.jpg
END:VEVENT
BEGIN:VTIMEZONE
TZID:America/Chicago
X-LIC-LOCATION:America/Chicago
BEGIN:STANDARD
DTSTART:20251102T010000
TZOFFSETFROM:-0500
TZOFFSETTO:-0600
TZNAME:CST
END:STANDARD
END:VTIMEZONE
END:VCALENDAR