BEGIN:VCALENDAR
VERSION:2.0
PRODID:-//wp-events-plugin.com//7.2.3.1//EN
TZID:America/Chicago
X-WR-TIMEZONE:America/Chicago
BEGIN:VEVENT
UID:871@thecraftchicks.com
DTSTART;TZID=America/Chicago:20260220T180000
DTEND;TZID=America/Chicago:20260220T210000
DTSTAMP:20260213T195339Z
URL:https://thecraftchicks.com/event/paint-your-pet-class-2026-02-20/
SUMMARY:Paint Your Pet Class
DESCRIPTION:Paint YOUR pet. Yes your Pet! Canvas Paint and relax and sip wi
 th us! The Craft Chick’s presents canvas painting every Friday from 6-9p
 m. Come for a few hours and make fun art with us! Our class does not requi
 re any prior painting experience or skill. Each canvas will be 11×14 and 
 cost $50. We provide all of the art supplies and instructions and one glas
 s of wine. Feel free to bring your own snacks and beverages adult or other
 wise. Our Friday classes are geared toward adults only\, great for friends
 \, girls nights and date nights. Our artist will walk you through the feat
 ured canvas painting step-by-step. Every person will leave with their own 
 canvas\, with their own personal touch. All projects can be taken home tha
 t same night. Please arrive 10min before class time\, instruction will beg
 in promptly at 6pm. If you are unable to attend the class you will forfeit
  half of your $50. You can always give your spot to a friend . Each person
  must have their own canvas\, no canvas sharing. Register Now! WE are only
  taking 10 people for this Class and you MUST have your color photo of you
 r pet in by WEDNESDAY prior to class. Only one pet per photo. Email Colore
 d Photo to thecraftchickstomball@gmail.com
ATTACH;FMTTYPE=image/jpeg:https://thecraftchicks.com/wp-content/uploads/20
 26/02/Untitled-design.jpg
CATEGORIES:canvas painting
END:VEVENT
BEGIN:VTIMEZONE
TZID:America/Chicago
X-LIC-LOCATION:America/Chicago
BEGIN:STANDARD
DTSTART:20251102T010000
TZOFFSETFROM:-0500
TZOFFSETTO:-0600
TZNAME:CST
END:STANDARD
END:VTIMEZONE
END:VCALENDAR