BEGIN:VCALENDAR
VERSION:2.0
PRODID:-//wp-events-plugin.com//7.2.3.1//EN
TZID:America/Chicago
X-WR-TIMEZONE:America/Chicago
BEGIN:VEVENT
UID:731@thecraftchicks.com
DTSTART;TZID=America/Chicago:20251128T183000
DTEND;TZID=America/Chicago:20251128T200000
DTSTAMP:20251122T224859Z
URL:https://thecraftchicks.com/event/paint-pouring-3/
SUMMARY:Paint Pouring
DESCRIPTION:Come Paint pour At the Craft Chicks Tomball!!\n\nClass is 40$ R
 egister now for 5$ and pay $35 at the end of the Class\n\nBring a Friend a
 nd create something truly unique!
ATTACH;FMTTYPE=image/jpeg:https://thecraftchicks.com/wp-content/uploads/20
 25/10/40-500-x-600-px.jpg
END:VEVENT
BEGIN:VTIMEZONE
TZID:America/Chicago
X-LIC-LOCATION:America/Chicago
BEGIN:STANDARD
DTSTART:20251102T010000
TZOFFSETFROM:-0500
TZOFFSETTO:-0600
TZNAME:CST
END:STANDARD
END:VTIMEZONE
END:VCALENDAR