BEGIN:VCALENDAR
VERSION:2.0
PRODID:-//wp-events-plugin.com//7.2.3.1//EN
TZID:America/Chicago
X-WR-TIMEZONE:America/Chicago
BEGIN:VEVENT
UID:521@thecraftchicks.com
DTSTART;TZID=America/Chicago:20250612T110000
DTEND;TZID=America/Chicago:20250612T173000
DTSTAMP:20250605T201725Z
URL:https://thecraftchicks.com/event/no-walk-in/
SUMMARY:NO WALK-IN
DESCRIPTION:BOOKED FULL!!! For the Whole day so sorry we will not take any 
 walk-Ins this day!
END:VEVENT
BEGIN:VTIMEZONE
TZID:America/Chicago
X-LIC-LOCATION:America/Chicago
BEGIN:DAYLIGHT
DTSTART:20250309T030000
TZOFFSETFROM:-0600
TZOFFSETTO:-0500
TZNAME:CDT
END:DAYLIGHT
END:VTIMEZONE
END:VCALENDAR