BEGIN:VCALENDAR
VERSION:2.0
PRODID:-//wp-events-plugin.com//7.2.3.1//EN
TZID:America/Chicago
X-WR-TIMEZONE:America/Chicago
BEGIN:VEVENT
UID:498@thecraftchicks.com
DTSTART;TZID=America/Chicago:20250701T090000
DTEND;TZID=America/Chicago:20250703T130000
DTSTAMP:20250627T163755Z
URL:https://thecraftchicks.com/event/nature-camp/
SUMMARY:Nature Camp
DESCRIPTION:Join us for Nature camp Tuesday July 1st- July 3rd !!\n\nAges 7
 -13 (five-six year olds are permitted if accompanied with sibling 8 or old
 er)\n\n&nbsp\;\n\nIt is Nature Camp!  We will be doing some awesome proje
 cts that will get you off your devices for at least 4 hours!! Camp include
 s the projects below and a camp shirt. ( We do recommend a size larger to 
 protect their clothes it acts more like a smock). After registration pleas
 e email us at thecraftchickstomball@gmail.com with your childs t-shirt si
 ze.\n\n 	plaster/clay floral canvas Art\n 	wood floral Resin coasters\n 	T
 ray\n 	Door Hanger\n 	Room Sign\n\nAnd More!!!\n\nLet us handle the mess!!
  You just Bring yourself and lunch/snacks and a water bottle. Upon registr
 ation please email us your childs T-Shirt Size. And we will see you at Nat
 ure camp!
ATTACH;FMTTYPE=image/jpeg:https://thecraftchicks.com/wp-content/uploads/20
 25/04/Coming-Soon.png
END:VEVENT
BEGIN:VTIMEZONE
TZID:America/Chicago
X-LIC-LOCATION:America/Chicago
BEGIN:DAYLIGHT
DTSTART:20250309T030000
TZOFFSETFROM:-0600
TZOFFSETTO:-0500
TZNAME:CDT
END:DAYLIGHT
END:VTIMEZONE
END:VCALENDAR