BEGIN:VCALENDAR
VERSION:2.0
PRODID:-//wp-events-plugin.com//7.2.3.1//EN
TZID:America/Chicago
X-WR-TIMEZONE:America/Chicago
BEGIN:VEVENT
UID:292@thecraftchicks.com
DTSTART;TZID=America/Chicago:20241122T180000
DTEND;TZID=America/Chicago:20241122T200000
DTSTAMP:20241018T182345Z
URL:https://thecraftchicks.com/event/monogram-letter-pumpkin-2/
SUMMARY:Monogram Letter Pumpkin
DESCRIPTION:Come and make your monogram letter pumpkin one for the door or 
 the table. These make for beautiful decor and are fun to make! Please regi
 ster for either the table pumpkin or large monogram pumpkin. Table Pumpkin
  35$ large pumpkin 65$. BYOB and snacks come craft and relax.
ATTACH;FMTTYPE=image/jpeg:https://thecraftchicks.com/wp-content/uploads/20
 24/10/307124246_3336028583278468_1728355203958146421_n-1-e1729273324185.jp
 eg
END:VEVENT
BEGIN:VTIMEZONE
TZID:America/Chicago
X-LIC-LOCATION:America/Chicago
BEGIN:STANDARD
DTSTART:20241103T010000
TZOFFSETFROM:-0500
TZOFFSETTO:-0600
TZNAME:CST
END:STANDARD
END:VTIMEZONE
END:VCALENDAR