BEGIN:VCALENDAR
VERSION:2.0
PRODID:-//wp-events-plugin.com//7.2.3.1//EN
TZID:America/Chicago
X-WR-TIMEZONE:America/Chicago
BEGIN:VEVENT
UID:510@thecraftchicks.com
DTSTART;TZID=America/Chicago:20250629T140000
DTEND;TZID=America/Chicago:20250629T170000
DTSTAMP:20250621T184411Z
URL:https://thecraftchicks.com/event/moms-night-out-2/
SUMMARY:June 29th Paint Party
DESCRIPTION:Hello and Welcome! Please register below for whichever option y
 ou want they come in two different sizes the 13in and the 22in. See you gu
 ys soon! Feel free to bring food\, snacks\, drinks\, and beverages.\n\nPle
 ase note bows are not part of the project cost but they are for purchase f
 or $10-25$
ATTACH;FMTTYPE=image/jpeg:https://thecraftchicks.com/wp-content/uploads/20
 25/05/3.png
END:VEVENT
BEGIN:VTIMEZONE
TZID:America/Chicago
X-LIC-LOCATION:America/Chicago
BEGIN:DAYLIGHT
DTSTART:20250309T030000
TZOFFSETFROM:-0600
TZOFFSETTO:-0500
TZNAME:CDT
END:DAYLIGHT
END:VTIMEZONE
END:VCALENDAR