BEGIN:VCALENDAR
VERSION:2.0
PRODID:-//wp-events-plugin.com//7.2.3.1//EN
TZID:America/Chicago
X-WR-TIMEZONE:America/Chicago
BEGIN:VEVENT
UID:506@thecraftchicks.com
DTSTART;TZID=America/Chicago:20260625T090000
DTEND;TZID=America/Chicago:20260625T130000
DTSTAMP:20260401T225714Z
URL:https://thecraftchicks.com/event/messy-art-camp-7/
SUMMARY:Messy Art Camp
DESCRIPTION:\n\n\n\n\nThis Time is Reserved for Camp! IF you came here to r
 egister go to June 24th on the Calendar.\n\n&nbsp\;
ATTACH;FMTTYPE=image/jpeg:https://thecraftchicks.com/wp-content/uploads/20
 26/04/Messy-Camp-instagram-post-1.png
CATEGORIES:Camp
END:VEVENT
BEGIN:VTIMEZONE
TZID:America/Chicago
X-LIC-LOCATION:America/Chicago
BEGIN:DAYLIGHT
DTSTART:20260308T030000
TZOFFSETFROM:-0600
TZOFFSETTO:-0500
TZNAME:CDT
END:DAYLIGHT
END:VTIMEZONE
END:VCALENDAR