BEGIN:VCALENDAR
VERSION:2.0
PRODID:-//wp-events-plugin.com//7.2.3.1//EN
TZID:America/Chicago
X-WR-TIMEZONE:America/Chicago
BEGIN:VEVENT
UID:505@thecraftchicks.com
DTSTART;TZID=America/Chicago:20250710T090000
DTEND;TZID=America/Chicago:20250710T130000
DTSTAMP:20250425T184044Z
URL:https://thecraftchicks.com/event/messy-art-camp-6/
SUMMARY:Messy Art Camp
DESCRIPTION:Join us for The messiest Week in June!!\n\nYou Can Rester by go
 ing to Calendar day July 9th\n\nAges 7-14 (five-six year olds are permitte
 d if accompanied with sibling 8 or older)\n\n&nbsp\;\n\nIt is Messy Art Ca
 mp!  We will be doing the projects you love\, BUT Mom does not let you do
  at Home!! Camp includes the projects below and a camp shirt. ( We do reco
 mmend a size larger to protect their clothes it act more like a smock).\n\
 n-Paint pouring on canvas and Wood\n\n-SLIME SLIME SLIME\n\n-TieDie\n\n-Re
 sin pouring\n\n-Plaster Ink Resin Canvas Art\n\nand more!!!!\n\nLet us han
 dle the mess!! You just Bring yourself and lunch/snacks. Upon registration
  please email us your childs T-Shirt Size. Camp is from 9-1pm If child doe
 s have to be here early at 8:15am let us know they will just have to bring
  a device or they can color in our art books. Camp will start at 9am.
ATTACH;FMTTYPE=image/jpeg:https://thecraftchicks.com/wp-content/uploads/20
 25/04/Messy-Camp.png
END:VEVENT
BEGIN:VTIMEZONE
TZID:America/Chicago
X-LIC-LOCATION:America/Chicago
BEGIN:DAYLIGHT
DTSTART:20250309T030000
TZOFFSETFROM:-0600
TZOFFSETTO:-0500
TZNAME:CDT
END:DAYLIGHT
END:VTIMEZONE
END:VCALENDAR