BEGIN:VCALENDAR
VERSION:2.0
PRODID:-//wp-events-plugin.com//7.2.3.1//EN
TZID:America/Chicago
X-WR-TIMEZONE:America/Chicago
BEGIN:VEVENT
UID:503@thecraftchicks.com
DTSTART;TZID=America/Chicago:20250619T090000
DTEND;TZID=America/Chicago:20250619T130000
DTSTAMP:20250425T183358Z
URL:https://thecraftchicks.com/event/messy-art-camp-4/
SUMMARY:Messy Art Camp
DESCRIPTION:Join us for The messiest Week in June!!\n\nYou Can Rester by go
 ing to Calendar day June 18th\n\nAges 7-14 (five-six year olds are permitt
 ed if accompanied with sibling 8 or older)\n\n&nbsp\;\n\nIt is Messy Art C
 amp!  We will be doing the projects you love\, BUT Mom does not let you d
 o at Home!! Camp includes the projects below and a camp shirt. ( We do rec
 ommend a size larger to protect their clothes it act more like a smock).\n
 \n-Paint pouring on canvas and Wood\n\n-SLIME SLIME SLIME\n\n-TieDie\n\n-R
 esin pouring\n\n-Plaster Ink Resin Canvas Art\n\nand more!!!!\n\nLet us ha
 ndle the mess!! You just Bring yourself and lunch/snacks. Upon registratio
 n please email us your childs T-Shirt Size. Camp is from 9-1pm If child do
 es have to be here early at 8:15am let us know they will just have to brin
 g a device or they can color in our art books. Camp will start at 9am.
ATTACH;FMTTYPE=image/jpeg:https://thecraftchicks.com/wp-content/uploads/20
 25/04/Messy-Camp.png
END:VEVENT
BEGIN:VTIMEZONE
TZID:America/Chicago
X-LIC-LOCATION:America/Chicago
BEGIN:DAYLIGHT
DTSTART:20250309T030000
TZOFFSETFROM:-0600
TZOFFSETTO:-0500
TZNAME:CDT
END:DAYLIGHT
END:VTIMEZONE
END:VCALENDAR