BEGIN:VCALENDAR
VERSION:2.0
PRODID:-//wp-events-plugin.com//7.2.3.1//EN
TZID:America/Chicago
X-WR-TIMEZONE:America/Chicago
BEGIN:VEVENT
UID:496@thecraftchicks.com
DTSTART;TZID=America/Chicago:20250709T090000
DTEND;TZID=America/Chicago:20250711T130000
DTSTAMP:20260401T224122Z
URL:https://thecraftchicks.com/event/messy-art-camp-3/
SUMMARY:Messy Art Camp
DESCRIPTION:Join us for The messiest Week in July!!\n\nAges 7-14 (five-six 
 year olds are permitted if accompanied with sibling 8 or older)\n\n&nbsp\;
 \n\nIt is Messy Art Camp!  We will be doing the projects you love\, BUT M
 om does not let you do at Home!! Camp includes the projects below and a ca
 mp shirt. ( We do recommend a size larger to protect their clothes it act 
 more like a smock).\n\n-Paint pouring on canvas and Wood\n\n-SLIME SLIME S
 LIME\n\n-TieDie\n\n-Resin pouring\n\n-Plaster Ink Resin Canvas Art\n\nand 
 more!!!!\n\nLet us handle the mess!! You just Bring yourself and lunch/sna
 cks. Upon registration please email us your childs T-Shirt Size.
ATTACH;FMTTYPE=image/jpeg:https://thecraftchicks.com/wp-content/uploads/20
 25/04/Messy-Camp.png
END:VEVENT
BEGIN:VTIMEZONE
TZID:America/Chicago
X-LIC-LOCATION:America/Chicago
BEGIN:DAYLIGHT
DTSTART:20250309T030000
TZOFFSETFROM:-0600
TZOFFSETTO:-0500
TZNAME:CDT
END:DAYLIGHT
END:VTIMEZONE
END:VCALENDAR