BEGIN:VCALENDAR
VERSION:2.0
PRODID:-//wp-events-plugin.com//7.2.3.1//EN
TZID:America/Chicago
X-WR-TIMEZONE:America/Chicago
BEGIN:VEVENT
UID:493@thecraftchicks.com
DTSTART;TZID=America/Chicago:20250504T140000
DTEND;TZID=America/Chicago:20250504T160000
DTSTAMP:20250425T172934Z
URL:https://thecraftchicks.com/event/may-the-4th-be-with-you/
SUMMARY:May the 4th be With You!
DESCRIPTION:Hello and Welcome to the Craft Chicks! We are so happy to host 
 His Grace Foundation! Please choose from select projects below for you eve
 nt!
ATTACH;FMTTYPE=image/jpeg:https://thecraftchicks.com/wp-content/uploads/20
 25/04/Copy-of-Beige-Collage-Year-Highlights-Instagram-Story-1.png
END:VEVENT
BEGIN:VTIMEZONE
TZID:America/Chicago
X-LIC-LOCATION:America/Chicago
BEGIN:DAYLIGHT
DTSTART:20250309T030000
TZOFFSETFROM:-0600
TZOFFSETTO:-0500
TZNAME:CDT
END:DAYLIGHT
END:VTIMEZONE
END:VCALENDAR