BEGIN:VCALENDAR
VERSION:2.0
PRODID:-//wp-events-plugin.com//7.2.3.1//EN
TZID:America/Chicago
X-WR-TIMEZONE:America/Chicago
BEGIN:VEVENT
UID:569@thecraftchicks.com
DTSTART;TZID=America/Chicago:20250808T163000
DTEND;TZID=America/Chicago:20250808T190000
DTSTAMP:20250724T193201Z
URL:https://thecraftchicks.com/event/magnolia-intermediate-2/
SUMMARY:Smith Elementary Paint Party
DESCRIPTION:Hello and welcome to the Craft Chicks! We are so happy to be ho
 sting your paint party. You are welcome to bring food and drinks..yes to t
 he alcohol. Please register for a project below PLEASE EMAIL us the NAME y
 ou would like on your project option to thecraftchickstomball@gmail.com. L
 AST DAY TO REGISTER August 6th at NOON.See Y'all Soon!Bows are not include
 d in project cost but are available for purchase 10-15$ and large greenery
  ones 20-25$All projects are non-refundable but if you cannot attend you c
 an come at a later time and paint the project or we will pack it as a to-g
 o kit and send it with the party host. 
ATTACH;FMTTYPE=image/jpeg:https://thecraftchicks.com/wp-content/uploads/20
 25/07/1-5.png
END:VEVENT
BEGIN:VTIMEZONE
TZID:America/Chicago
X-LIC-LOCATION:America/Chicago
BEGIN:DAYLIGHT
DTSTART:20250309T030000
TZOFFSETFROM:-0600
TZOFFSETTO:-0500
TZNAME:CDT
END:DAYLIGHT
END:VTIMEZONE
END:VCALENDAR