BEGIN:VCALENDAR
VERSION:2.0
PRODID:-//wp-events-plugin.com//7.2.3.1//EN
TZID:America/Chicago
X-WR-TIMEZONE:America/Chicago
BEGIN:VEVENT
UID:566@thecraftchicks.com
DTSTART;TZID=America/Chicago:20250726T110000
DTEND;TZID=America/Chicago:20250726T150000
DTSTAMP:20250712T190418Z
URL:https://thecraftchicks.com/event/magnolia-elementary-school-private-ev
 ent/
SUMMARY:Magnolia Elementary School Private Event
DESCRIPTION:Hello and welcome to the Craft Chicks! We are so happy to be ho
 sting your paint party. You are welcome to bring food and drinks..yes to t
 he alcohol. Please register for a project below PLEASE EMAIL us the NAME \
 , INITIAL or both if choosing option 4 that you would like on your project
  to thecraftchickstomball@gmail.com. See Y'all Soon!Bows are not included
  in project cost but are available for purchase 10-15$ and large greenery 
 ones 20-25$
ATTACH;FMTTYPE=image/jpeg:https://thecraftchicks.com/wp-content/uploads/20
 25/07/1-1.png
END:VEVENT
BEGIN:VTIMEZONE
TZID:America/Chicago
X-LIC-LOCATION:America/Chicago
BEGIN:DAYLIGHT
DTSTART:20250309T030000
TZOFFSETFROM:-0600
TZOFFSETTO:-0500
TZNAME:CDT
END:DAYLIGHT
END:VTIMEZONE
END:VCALENDAR