BEGIN:VCALENDAR
VERSION:2.0
PRODID:-//wp-events-plugin.com//7.2.3.1//EN
TZID:America/Chicago
X-WR-TIMEZONE:America/Chicago
BEGIN:VEVENT
UID:732@thecraftchicks.com
DTSTART;TZID=America/Chicago:20251109T140000
DTEND;TZID=America/Chicago:20251109T163000
DTSTAMP:20251105T214148Z
URL:https://thecraftchicks.com/event/latishas-bridal-party/
SUMMARY:Baby Shower Paint Party
DESCRIPTION:HELLO Y'ALL!! Welcome to The Craft Chicks feel free to bring dr
 inks\, snack etc.\n\nEveryone must Register by Tonight Nov 5th.\n\n!! If y
 ou choose option 3 please enter Desired last name  letter in Notes.\n\nBo
 ws are not included but are available for purchase from $10-$25.\n\nWe wil
 l see you soon!
ATTACH;FMTTYPE=image/jpeg:https://thecraftchicks.com/wp-content/uploads/20
 25/11/Copy-of-Copy-of-Beige-Collage-Year-Highlights-Instagram-Story-350-x-
 800-px-350-x-550-px-1-1.jpg
END:VEVENT
BEGIN:VTIMEZONE
TZID:America/Chicago
X-LIC-LOCATION:America/Chicago
BEGIN:STANDARD
DTSTART:20251102T010000
TZOFFSETFROM:-0500
TZOFFSETTO:-0600
TZNAME:CST
END:STANDARD
END:VTIMEZONE
END:VCALENDAR