BEGIN:VCALENDAR
VERSION:2.0
PRODID:-//wp-events-plugin.com//7.2.3.1//EN
TZID:America/Chicago
X-WR-TIMEZONE:America/Chicago
BEGIN:VEVENT
UID:881@thecraftchicks.com
DTSTART;TZID=America/Chicago:20260310T150000
DTEND;TZID=America/Chicago:20260310T170000
DTSTAMP:20260227T210149Z
URL:https://thecraftchicks.com/event/kids-wood-craft-camp-class-2026-03-09
 -2026-03-10/
SUMMARY:Kids Wood Craft Camp Class SOLD OUT
DESCRIPTION:SORRY SOLD OUT THERE ARE OTHER DAYS TO CHOOSE FROM!\n\n&nbsp\;\
 n\nKids Wood Craft Painting Camp Class! Have your kids been on TV and devi
 ces all day? Drop them off here at The Craft chicks and enjoy a couple of 
 hours to yourself this camp will be 2 hours 3:00-5:00pm. Want us to keep t
 hem longer sign them up for the wood Project class/camp and they will be h
 ere and additional 2 hours. 3-5pm.\n\nThis wood craft camp is a single day
 . Each day Mon-Friday we will have a different wood project. Our Instructo
 r  will teach them different techniques associated with that days project
 . We are ONLY taking 10 registrations so register Now!\n\nWe will have lig
 ht snacks provided we ask that each child bring their own water bottle.\n\
 nAges 6-13 This is a drop off camp only kids allowed. If 5 year old want t
 o attend they must attend with a sibling.\n\n&nbsp\;
ATTACH;FMTTYPE=image/jpeg:https://thecraftchicks.com/wp-content/uploads/20
 26/02/Screenshot-2026-02-26-at-1.20.20-PM.png
CATEGORIES:Camp
END:VEVENT
BEGIN:VTIMEZONE
TZID:America/Chicago
X-LIC-LOCATION:America/Chicago
BEGIN:DAYLIGHT
DTSTART:20260308T030000
TZOFFSETFROM:-0600
TZOFFSETTO:-0500
TZNAME:CDT
END:DAYLIGHT
END:VTIMEZONE
END:VCALENDAR