BEGIN:VCALENDAR
VERSION:2.0
PRODID:-//wp-events-plugin.com//7.2.3.1//EN
TZID:America/Chicago
X-WR-TIMEZONE:America/Chicago
BEGIN:VEVENT
UID:884@thecraftchicks.com
DTSTART;TZID=America/Chicago:20260307T150000
DTEND;TZID=America/Chicago:20260307T170000
DTSTAMP:20260307T223254Z
URL:https://thecraftchicks.com/event/kids-wood-craft-camp-class-2026-03-09
 -2026-03-10-2026-03-11-2026-03-12-2026-03-13/
SUMMARY:Kids Wood Craft Camp Class
DESCRIPTION:Kids Wood Craft Painting Camp Class! Have your kids been on TV 
 and devices all day? Drop them off here at The Craft chicks and enjoy a co
 uple of hours to yourself this camp will be 2 hours 3:00-5:00pm. Want us t
 o keep them longer sign them up for the wood Project class/camp and they w
 ill be here and additional 2 hours. 3-5pm.\n\nThis wood craft camp is a si
 ngle day. Each day Mon-Friday we will have a different wood project. Our I
 nstructor  will teach them different techniques associated with that days
  project. We are ONLY taking 10 registrations so register Now!\n\nWe will 
 have light snacks provided we ask that each child bring their own water bo
 ttle.\n\nAges 6-13 This is a drop off camp only kids allowed. If 5 year ol
 d want to attend they must attend with a sibling.\n\n&nbsp\;
ATTACH;FMTTYPE=image/jpeg:https://thecraftchicks.com/wp-content/uploads/20
 26/02/Screenshot-2026-02-26-at-1.16.43-PM.jpg
CATEGORIES:Camp
END:VEVENT
BEGIN:VTIMEZONE
TZID:America/Chicago
X-LIC-LOCATION:America/Chicago
BEGIN:STANDARD
DTSTART:20251102T010000
TZOFFSETFROM:-0500
TZOFFSETTO:-0600
TZNAME:CST
END:STANDARD
END:VTIMEZONE
END:VCALENDAR