BEGIN:VCALENDAR
VERSION:2.0
PRODID:-//wp-events-plugin.com//7.2.3.1//EN
TZID:America/Chicago
X-WR-TIMEZONE:America/Chicago
BEGIN:VEVENT
UID:875@thecraftchicks.com
DTSTART;TZID=America/Chicago:20260310T130000
DTEND;TZID=America/Chicago:20260310T150000
DTSTAMP:20260227T205958Z
URL:https://thecraftchicks.com/event/kids-canvas-painting-camp-class-2026-
 03-10/
SUMMARY:Kids Canvas Painting Camp Class! SOLD OUT
DESCRIPTION:SORRY SOLD OUT PLEASE CHOOSE ANOTHER DAY\n\nKids Canvas Paintin
 g Camp Class! Have your kids been on TV and devices all day? Drop them off
  here at The Craft chicks and enjoy a couple of hours to yourself this cam
 p will be 2 hours 1:00-3:00pm. Want us to keep them longer sign them up fo
 r the wood Project class/camp and they will be here and additional 2 hours
 . 3-5pm.\n\nThis Canvas camp is a single day. Each day Mon-Friday we will 
 have a different canvas project. Our Instructor Elizabeth will teach them 
 different techniques associated with that days canvas project. We are ONLY
  taking 10 registrations so register Now!\n\nWe will have light snacks pro
 vided we ask that each child bring their own water bottle.\n\nAges 6-13 Th
 is is a drop off camp only kids allowed. If 5 year old want to attend they
  must attend with a sibling.\n\n&nbsp\;
ATTACH;FMTTYPE=image/jpeg:https://thecraftchicks.com/wp-content/uploads/20
 26/02/IMG_8558.jpg
CATEGORIES:Canvas Camp
END:VEVENT
BEGIN:VTIMEZONE
TZID:America/Chicago
X-LIC-LOCATION:America/Chicago
BEGIN:DAYLIGHT
DTSTART:20260308T030000
TZOFFSETFROM:-0600
TZOFFSETTO:-0500
TZNAME:CDT
END:DAYLIGHT
END:VTIMEZONE
END:VCALENDAR