BEGIN:VCALENDAR
VERSION:2.0
PRODID:-//wp-events-plugin.com//7.2.3.1//EN
TZID:America/Chicago
X-WR-TIMEZONE:America/Chicago
BEGIN:VEVENT
UID:298@thecraftchicks.com
DTSTART;TZID=America/Chicago:20241129T090000
DTEND;TZID=America/Chicago:20241129T130000
DTSTAMP:20241018T202645Z
URL:https://thecraftchicks.com/event/kids-camp-friday/
SUMMARY:KIDS CAMP FRIDAY!
DESCRIPTION:We are offering Kids camp for Friday the 29th the day after tha
 nksgiving. If it is for either shopping\, work or just to get the kids out
  of the house let them come and craft with US! We have full day and half d
 ay options. 6yrs-13yrs\n\nHalf Day Projects:\n\n-Christmas Silme\n\n-Wood 
 Gingerbread House and Ginger Family\n\n- Ornaments\n\nFull Day Projects:\n
 \n-Christmas Silme\n\n-Wood Gingerbread House and Ginger Family\n\n-Christ
 mas Jewelry\n\n- Ornaments\n\n-Cookies for Santa tray\n\n-Santa project
ATTACH;FMTTYPE=image/jpeg:https://thecraftchicks.com/wp-content/uploads/20
 24/10/Gingerbread-house.png
END:VEVENT
BEGIN:VTIMEZONE
TZID:America/Chicago
X-LIC-LOCATION:America/Chicago
BEGIN:STANDARD
DTSTART:20241103T010000
TZOFFSETFROM:-0500
TZOFFSETTO:-0600
TZNAME:CST
END:STANDARD
END:VTIMEZONE
END:VCALENDAR