BEGIN:VCALENDAR
VERSION:2.0
PRODID:-//wp-events-plugin.com//7.2.3.1//EN
TZID:America/Chicago
X-WR-TIMEZONE:America/Chicago
BEGIN:VEVENT
UID:514@thecraftchicks.com
DTSTART;TZID=America/Chicago:20250712T140000
DTEND;TZID=America/Chicago:20250712T170000
DTSTAMP:20250621T203512Z
URL:https://thecraftchicks.com/event/june-7th-birthday-paint-party/
SUMMARY:July 12th Birthday Paint Party
DESCRIPTION:Hello and Welcome! Please register below for which option you w
 ant. See you guys soon! Feel free to bring food\, snacks\, drinks\, and be
 verages.\n\nPlease note bows are not part of the project cost but they are
  for purchase for $10-25$
ATTACH;FMTTYPE=image/jpeg:https://thecraftchicks.com/wp-content/uploads/20
 25/05/Carrie-Mullin-event-3.png
END:VEVENT
BEGIN:VTIMEZONE
TZID:America/Chicago
X-LIC-LOCATION:America/Chicago
BEGIN:DAYLIGHT
DTSTART:20250309T030000
TZOFFSETFROM:-0600
TZOFFSETTO:-0500
TZNAME:CDT
END:DAYLIGHT
END:VTIMEZONE
END:VCALENDAR