BEGIN:VCALENDAR
VERSION:2.0
PRODID:-//wp-events-plugin.com//7.2.3.1//EN
TZID:America/Chicago
X-WR-TIMEZONE:America/Chicago
BEGIN:VEVENT
UID:512@thecraftchicks.com
DTSTART;TZID=America/Chicago:20250612T173000
DTEND;TZID=America/Chicago:20250612T193000
DTSTAMP:20250604T205829Z
URL:https://thecraftchicks.com/event/june-12th-church-paint-party/
SUMMARY:June 12th Church Paint Party
DESCRIPTION:Hello and Welcome! Please register below for which option you w
 ant they come in two different sizes the 13in and the 22in. See you guys s
 oon! Feel free to bring food\, snacks\, drinks\, and beverages.\n\nPlease 
 note bows are not part of the project cost but they are for purchase for $
 10-25$
ATTACH;FMTTYPE=image/jpeg:https://thecraftchicks.com/wp-content/uploads/20
 25/04/Carrie-Mullin-event-2.png
END:VEVENT
BEGIN:VTIMEZONE
TZID:America/Chicago
X-LIC-LOCATION:America/Chicago
BEGIN:DAYLIGHT
DTSTART:20250309T030000
TZOFFSETFROM:-0600
TZOFFSETTO:-0500
TZNAME:CDT
END:DAYLIGHT
END:VTIMEZONE
END:VCALENDAR